BEGIN:VCALENDAR
VERSION:2.0
PRODID:-//Toño López Moreno - ECPv6.15.20//NONSGML v1.0//EN
CALSCALE:GREGORIAN
METHOD:PUBLISH
X-WR-CALNAME:Toño López Moreno
X-ORIGINAL-URL:https://joseantoniolopezmoreno.es
X-WR-CALDESC:Eventos para Toño López Moreno
REFRESH-INTERVAL;VALUE=DURATION:PT1H
X-Robots-Tag:noindex
X-PUBLISHED-TTL:PT1H
BEGIN:VTIMEZONE
TZID:UTC
BEGIN:STANDARD
TZOFFSETFROM:+0000
TZOFFSETTO:+0000
TZNAME:UTC
DTSTART:20240101T000000
END:STANDARD
END:VTIMEZONE
BEGIN:VEVENT
DTSTART;TZID=UTC:20250704T200000
DTEND;TZID=UTC:20250704T213000
DTSTAMP:20260424T015819
CREATED:20250624T230935Z
LAST-MODIFIED:20250624T232841Z
UID:6695-1751659200-1751664600@joseantoniolopezmoreno.es
SUMMARY:Gestionar el Estrés y la Ansiedad con Herramientas Sencillas: Claves Prácticas
DESCRIPTION:🧘‍♂️ Taller: Claves Prácticas para Gestionar el Estrés y la Ansiedad📆 Viernes 4 de julio – Presencial y Online🎟️ Aportación: 10€ \n¿Te cuesta encontrar calma en medio del ritmo diario?¿Sientes que el estrés o la ansiedad te desconectan de tu bienestar? \nEste viernes 4 de julio\, acompáñanos en un taller práctico con Toño\, donde aprenderás herramientas sencillas y efectivas para comprender tu malestar y empezar a transformarlo desde el primer momento. \nEn este encuentro trabajaremos para:✅ Identificar y gestionar el estrés y la ansiedad✅ Entender cómo afectan al cuerpo y la mente✅ Aplicar recursos simples para sentirte mejor y más fuerte cada día \n\n🗓️ Fecha: Viernes 4 de julio🕗 Horario: 20:00 a 21:30📍 Modalidad: Presencial en el espacio de Toño / También Online💶 Aportación: 10€ \n\n🌿 Un espacio de pausa\, claridad y bienestar emocional.Plazas limitadas. Reserva tu lugar con antelación. \n📲 Para más información y reservas\, contáctanos directamente.
URL:https://joseantoniolopezmoreno.es/evento/gestionar-el-estres-y-la-ansiedad-con-herramientas-sencillas-claves-practicas/
LOCATION:Alcalá de Guadaíra\, Calle Antonio Guerra Ojeda\, Alcala de Guadaira\, Sevilla\, 41500\, Spain
CATEGORIES:Eventos
ATTACH;FMTTYPE=image/jpeg:https://joseantoniolopezmoreno.es/wp-content/uploads/2025/06/Charla-Jose-Antonio-14-e1750807658988.jpg
END:VEVENT
END:VCALENDAR