BEGIN:VCALENDAR
VERSION:2.0
PRODID:-//Toño López Moreno - ECPv6.15.20//NONSGML v1.0//EN
CALSCALE:GREGORIAN
METHOD:PUBLISH
X-ORIGINAL-URL:https://joseantoniolopezmoreno.es
X-WR-CALDESC:Eventos para Toño López Moreno
REFRESH-INTERVAL;VALUE=DURATION:PT1H
X-Robots-Tag:noindex
X-PUBLISHED-TTL:PT1H
BEGIN:VTIMEZONE
TZID:UTC
BEGIN:STANDARD
TZOFFSETFROM:+0000
TZOFFSETTO:+0000
TZNAME:UTC
DTSTART:20240101T000000
END:STANDARD
END:VTIMEZONE
BEGIN:VEVENT
DTSTART;TZID=UTC:20250724T190000
DTEND;TZID=UTC:20250724T220000
DTSTAMP:20260424T072806
CREATED:20250619T184044Z
LAST-MODIFIED:20250624T223833Z
UID:6666-1753383600-1753394400@joseantoniolopezmoreno.es
SUMMARY:Curso completo de Tarot: Números y Símbolos. Día 1
DESCRIPTION:Curso Completo de Tarot: «Números y Símbolos»Explora el Tarot como una herramienta profunda de autoconocimiento y guía práctica \nPresencial en Alcalá de GuadaíraDisponible también Online en directo🗓️ Fechas: Jueves 24 y 31 de julio de 2025🕖 Horario: de 19:00 a 22:00Precio: 30€/día👤 Impartido por: José Antonio López Moreno \n\n¿Qué aprenderás?Este curso está diseñado para que entiendas el Tarot desde su base más profunda: los números y los símbolos. Una experiencia clara\, estructurada y 100% práctica\, para que puedas utilizar el Tarot como una herramienta efectiva de interpretación\, orientación y crecimiento personal. \n🎓 Con acceso a nuestro Campus Virtual\, recibirás materiales\, ejercicios y recursos para continuar explorando entre sesiones. \n\nContenido del Curso: ver dossier del curso\n🔹 Bloque 1: La Arquitectura Tarótica \n\n¿Qué es realmente el Tarot?\nIntroducción a su estructura y la importancia de los números\n\n🔹 Bloque 2: Los Números \n\nEl Jardín Tarótico: cómo los números hablan\nNúmeros y símbolos como mapas de experiencia\n\n🔹 Bloque 3: Ámbitos Vitales \n\nEl poder simbólico del triángulo numérico\nIdeogramas y retículos en la lectura vital\n\n🔹 Bloque 4: Los Símbolos \n\nLa tirada como mapa simbólico-numérico\nCómo leer los ejes simbólicos en una consulta\n\n🔹 Bloque 5: La Personalidad \n\nLos 6 atributos del Sol en el Tarot\nLas personalidades taróticas: claves de identidad\n\n\nIdeal para quienes desean:✅ Entender el Tarot más allá de las cartas✅ Leer con claridad y sentido práctico✅ Aplicar el Tarot en sesiones\, procesos personales o terapias \n✨ No necesitas experiencia previa. Solo curiosidad\, apertura y ganas de descubrir. \n📲 Reserva tu plaza ahoraLas plazas son limitadas y la experiencia… transformadora.
URL:https://joseantoniolopezmoreno.es/evento/curso-completo-de-tarot-numeros-y-simbolos-dia-1/
LOCATION:Alcalá de Guadaíra\, Calle Antonio Guerra Ojeda\, Alcala de Guadaira\, Sevilla\, 41500\, Spain
ATTACH;FMTTYPE=image/jpeg:https://joseantoniolopezmoreno.es/wp-content/uploads/2025/03/Charla-Jose-Antonio-10-e1750804766714.jpg
END:VEVENT
END:VCALENDAR