BEGIN:VCALENDAR
VERSION:2.0
PRODID:-//Toño López Moreno - ECPv6.15.20//NONSGML v1.0//EN
CALSCALE:GREGORIAN
METHOD:PUBLISH
X-WR-CALNAME:Toño López Moreno
X-ORIGINAL-URL:https://joseantoniolopezmoreno.es
X-WR-CALDESC:Eventos para Toño López Moreno
REFRESH-INTERVAL;VALUE=DURATION:PT1H
X-Robots-Tag:noindex
X-PUBLISHED-TTL:PT1H
BEGIN:VTIMEZONE
TZID:UTC
BEGIN:STANDARD
TZOFFSETFROM:+0000
TZOFFSETTO:+0000
TZNAME:UTC
DTSTART:20240101T000000
END:STANDARD
END:VTIMEZONE
BEGIN:VEVENT
DTSTART;TZID=UTC:20251119T180000
DTEND;TZID=UTC:20251119T193000
DTSTAMP:20260421T044927
CREATED:20251024T224207Z
LAST-MODIFIED:20251024T224207Z
UID:7085-1763575200-1763580600@joseantoniolopezmoreno.es
SUMMARY:Recarga Plena: ¡relajación y bienestar en acción para ti!
DESCRIPTION:¡Inscríbete ahora!\nRellena el siguiente formulario sin compromiso (la inscripción se formalizará una vez se haya efectuado el pago): Recarga Plena: inscripción para noviembre \nRECARGA PLENA es un plan impartido por el psicólogo Jose Antonio López Moreno para ofrecer un modelo de bienestar preventivo y recarga ‘energética’ completo y accesible. \nIncluye dos sesiones presenciales bimensuales de más de una hora\, con la opción un seguimiento paa los inscritos al plan mensual que tiene la finalidad de afianzar enseñanzas cruciales para el bienestar y la calma mental. Los asistentes aplican técnicas de relajación\, manejo del estrés y concentración dinámica\, con el asesoramiento directo del psicólogo. \nNuestro enfoque es metodológico y activo: combinamos la práctica de la relajación muscular\, emocional y mental con la atención a la respiración y la visualización creativa. El objetivo es recargar las pilas\, reducir o eliminar el estrés y lograr la plenitud a través de la actividad estratégica y el equilibrio personal. \nContenido \n\nClase-Taller Práctico (Eventos Bimensuales): Sesiones grupales con formato clase-taller para que los asistentes aprendan y apliquen técnicas de relajación y de manejo del estrés\, con el asesoramiento directo del psicólogo. Se trabajan elementos vitales para la recarga energética y la calma mental.\nEjes de la Práctica (Enfoque Metodológico y Activo):\nMeditación Guiada y Escaneo Corporal (Body Scan): Para la aplicación de relajación muscular\, emocional y mental\, y el anclaje de la calma interior.\nTécnicas de Concentración y Atención: Ejercicios de Concentración Dinámica y Atención a la Respiración para reducir o eliminar el estrés.\nVisualización Creativa y Observación Consciente: Empleo de técnicas de Visualización Creativa y uso de la Observación Consciente y Conciencia Corporal para generar bienestar.\nEstablecimiento de Foco y Bienestar: Aunque el enfoque principal es la recarga\, las sesiones contribuyen a establecer un foco para los objetivos personales y el bienestar preventivo.\n\n Condiciones\, Frecuencia y Precio\nLa participación en cada sesión de RECARGA PLENA tiene una aportación de 15€ (IVA incluido) por sesión\, 30€/mes. El plan es de carácter bimensual\, ofreciendo dos eventos al mes\, y no requiere compromiso de permanencia. Cada sesión presencial tiene una duración aproximada de una hora\, extensible. La cuota mensual incluye la asistencia a la sesión presencial de clase-taller y el seguimiento y asistencia posterior por parte del psicólogo. \nDisponibilidad y Comunicación del Psicólogo\nEl marco de trabajo formal se establece exclusivamente en las sesiones presenciales bimensuales. El servicio incluye la asistencia y el seguimiento del psicólogo tras la sesión\, pero no implica la disponibilidad 24/7 para terapia o asistencia continua e inmediata. Se responderá a cualquier consulta a la mayor brevedad posible\, priorizando las cuestiones que sean urgentes. \nAclaración Importante sobre la Orientación del Servicio\nEste plan se centra en el crecimiento personal\, la consecución de objetivos y el bienestar preventivo. RECARGA PLENA NO es un servicio de Psicología Clínica Sanitaria (terapia con diagnóstico y tratamiento). Si durante el desarrollo de las sesiones se detecta la necesidad de una intervención clínica\, el participante será derivado a un psicólogo clínico o a otro profesional de salud mental adecuado. \n 
URL:https://joseantoniolopezmoreno.es/evento/recarga-plena-relajacion-y-bienestar-en-accion-para-ti-2/
CATEGORIES:Eventos,Meditaciones
ATTACH;FMTTYPE=image/jpeg:https://joseantoniolopezmoreno.es/wp-content/uploads/2025/10/RECARGA-PLENA.jpg
END:VEVENT
END:VCALENDAR