BEGIN:VCALENDAR
VERSION:2.0
PRODID:-//Toño López Moreno - ECPv6.15.20//NONSGML v1.0//EN
CALSCALE:GREGORIAN
METHOD:PUBLISH
X-ORIGINAL-URL:https://joseantoniolopezmoreno.es
X-WR-CALDESC:Eventos para Toño López Moreno
REFRESH-INTERVAL;VALUE=DURATION:PT1H
X-Robots-Tag:noindex
X-PUBLISHED-TTL:PT1H
BEGIN:VTIMEZONE
TZID:UTC
BEGIN:STANDARD
TZOFFSETFROM:+0000
TZOFFSETTO:+0000
TZNAME:UTC
DTSTART:20230101T000000
END:STANDARD
END:VTIMEZONE
BEGIN:VEVENT
DTSTART;TZID=UTC:20241220T170000
DTEND;TZID=UTC:20241220T210000
DTSTAMP:20260424T235304
CREATED:20241128T035327Z
LAST-MODIFIED:20241128T042543Z
UID:6516-1734714000-1734728400@joseantoniolopezmoreno.es
SUMMARY:Curso de Propósito\, Misión de Vida y Metagenealogía
DESCRIPTION:Bloques principales del curso: \n\nEl Propósito: ¿Por qué hacemos lo que hacemos? ¿Hacia dónde vamos en realidad?\nEl Sistema de Repeticiones. La búsqueda del sufrimiento y del resultado.\nLos Rangos de Conciencia. La rutina\, los hábitos y las aspiraciones.\nLa necesidad de afiliación y las parejas: un camino hacia el propósito de crear el sistema propio.\nLas Teleologías: modelos de esquema mental frente a la misión de vida.\nEl Modelo Familiar y la necesidad de creación del sistema propio.\nLa Hermandad: dinámica familiar y sistema.\nNúcleos y Nudos en el desarrollo hacia la misión de vida: limitaciones y bloqueos.\nAbusos e Identidad Adquirida: cómo la personalidad\, los rasgos y atributos impiden el Propósito.
URL:https://joseantoniolopezmoreno.es/evento/curso-de-proposito-mision-de-vida-y-metagenealogia/
LOCATION:Alcalá de Guadaíra\, Calle Antonio Guerra Ojeda\, Alcala de Guadaira\, Sevilla\, 41500\, Spain
CATEGORIES:Eventos únicos
ATTACH;FMTTYPE=image/jpeg:https://joseantoniolopezmoreno.es/wp-content/uploads/2024/11/Curso-de-Proposito-Mision-de-Vida-y-Metagenealogia-2.jpg
END:VEVENT
END:VCALENDAR