BEGIN:VCALENDAR
VERSION:2.0
PRODID:-//Toño López Moreno - ECPv6.15.20//NONSGML v1.0//EN
CALSCALE:GREGORIAN
METHOD:PUBLISH
X-WR-CALNAME:Toño López Moreno
X-ORIGINAL-URL:https://joseantoniolopezmoreno.es
X-WR-CALDESC:Eventos para Toño López Moreno
REFRESH-INTERVAL;VALUE=DURATION:PT1H
X-Robots-Tag:noindex
X-PUBLISHED-TTL:PT1H
BEGIN:VTIMEZONE
TZID:UTC
BEGIN:STANDARD
TZOFFSETFROM:+0000
TZOFFSETTO:+0000
TZNAME:UTC
DTSTART:20240101T000000
END:STANDARD
END:VTIMEZONE
BEGIN:VEVENT
DTSTART;TZID=UTC:20250708T190000
DTEND;TZID=UTC:20250708T220000
DTSTAMP:20260424T001208
CREATED:20250623T203603Z
LAST-MODIFIED:20250624T224718Z
UID:6670-1752001200-1752012000@joseantoniolopezmoreno.es
SUMMARY:Curso completo de Cábala: el Movimiento del Espíritu\, día 1
DESCRIPTION:Curso Completo de Cábala: El Movimiento del EspírituDescubre el poder transformador de la sabiduría ancestral aplicada a la vida moderna \n¿Sientes que hay algo más allá de lo que percibes? ¿Buscas herramientas prácticas para comprender tu propósito y vivir con mayor plenitud? \nEste curso es para ti. \nLo que te espera:\nUn recorrido fascinante y profundo por los principios esenciales de la Cábala\, dividido en 5 bloques de estudio que combinan teoría clara con ejercicios útiles y contenido práctico\, para que puedas integrar la sabiduría cabalística en tu día a día. \nIncluye acceso exclusivo a nuestro Campus VirtualPresencial y Online en vivo – ¡elige cómo participar! \n📅 Fechas: 08 y 15 de julio de 2025🕖 Horario: de 19:00 a 22:00 (hora local) \n\nPrograma del Curso: ver dossier del curso aquí\n🔹 Bloque 1: Las Reglas Espirituales \n\n¿Qué es realmente la Cábala?\nMasaj: El juego de la vida\n\n🔹 Bloque 2: El Proceso Creativo \n\nRatzón: El Deseo como motor del alma\nAin Sof Aur: Cómo se crea la realidad\n\n🔹 Bloque 3: Las Esferas y los Árboles \n\nAlef-Bet: El ADN espiritual\nOlamot: Mundos y dimensiones ocultas\n\n🔹 Bloque 4: Anatomía del Alma \n\nMerkavá: Tecnología espiritual aplicada\nEmuná: La luz del alma y la fe consciente\n\n🔹 Bloque 5: Inteligencias \n\nMalakhim: Inteligencias universales\nSatán: El oponente como maestro\n\n\nFacilitado por José Antonio López Moreno\, instructor y consultor\, experto en desarrollo personal creativo. Este curso está diseñado para todo público\, sin necesidad de conocimientos previos.
URL:https://joseantoniolopezmoreno.es/evento/curso-de-cabala-el-movimiento-del-espiritu-dia-1/
LOCATION:Alcalá de Guadaíra\, Calle Antonio Guerra Ojeda\, Alcala de Guadaira\, Sevilla\, 41500\, Spain
CATEGORIES:Eventos únicos
ATTACH;FMTTYPE=image/jpeg:https://joseantoniolopezmoreno.es/wp-content/uploads/2025/03/Charla-Jose-Antonio-11-e1750804809412.jpg
END:VEVENT
BEGIN:VEVENT
DTSTART;TZID=UTC:20250715T190000
DTEND;TZID=UTC:20250715T220000
DTSTAMP:20260424T001208
CREATED:20250623T203723Z
LAST-MODIFIED:20250624T224705Z
UID:6672-1752606000-1752616800@joseantoniolopezmoreno.es
SUMMARY:Curso completo de Cábala: el Movimiento del Espíritu\, día 2
DESCRIPTION:Curso Completo de Cábala: El Movimiento del EspírituDescubre el poder transformador de la sabiduría ancestral aplicada a la vida moderna \n¿Sientes que hay algo más allá de lo que percibes? ¿Buscas herramientas prácticas para comprender tu propósito y vivir con mayor plenitud? \nEste curso es para ti. \nLo que te espera:\nUn recorrido fascinante y profundo por los principios esenciales de la Cábala\, dividido en 5 bloques de estudio que combinan teoría clara con ejercicios útiles y contenido práctico\, para que puedas integrar la sabiduría cabalística en tu día a día. \nIncluye acceso exclusivo a nuestro Campus VirtualPresencial y Online en vivo – ¡elige cómo participar! \n📅 Fechas: 08 y 15 de julio de 2025🕖 Horario: de 19:00 a 22:00 (hora local) \n\nPrograma del Curso: ver dossier del curso aquí\n🔹 Bloque 1: Las Reglas Espirituales \n\n¿Qué es realmente la Cábala?\nMasaj: El juego de la vida\n\n🔹 Bloque 2: El Proceso Creativo \n\nRatzón: El Deseo como motor del alma\nAin Sof Aur: Cómo se crea la realidad\n\n🔹 Bloque 3: Las Esferas y los Árboles \n\nAlef-Bet: El ADN espiritual\nOlamot: Mundos y dimensiones ocultas\n\n🔹 Bloque 4: Anatomía del Alma \n\nMerkavá: Tecnología espiritual aplicada\nEmuná: La luz del alma y la fe consciente\n\n🔹 Bloque 5: Inteligencias \n\nMalakhim: Inteligencias universales\nSatán: El oponente como maestro\n\n\nFacilitado por José Antonio López Moreno\, instructor y consultor\, experto en desarrollo personal creativo. Este curso está diseñado para todo público\, sin necesidad de conocimientos previos.
URL:https://joseantoniolopezmoreno.es/evento/curso-de-cabala-el-movimiento-del-espiritu-dia-2/
LOCATION:Alcalá de Guadaíra\, Calle Antonio Guerra Ojeda\, Alcala de Guadaira\, Sevilla\, 41500\, Spain
CATEGORIES:Eventos únicos
ATTACH;FMTTYPE=image/jpeg:https://joseantoniolopezmoreno.es/wp-content/uploads/2025/03/Charla-Jose-Antonio-11-e1750804809412.jpg
END:VEVENT
END:VCALENDAR