BEGIN:VCALENDAR
VERSION:2.0
PRODID:-//Toño López Moreno - ECPv6.15.20//NONSGML v1.0//EN
CALSCALE:GREGORIAN
METHOD:PUBLISH
X-ORIGINAL-URL:https://joseantoniolopezmoreno.es
X-WR-CALDESC:Eventos para Toño López Moreno
REFRESH-INTERVAL;VALUE=DURATION:PT1H
X-Robots-Tag:noindex
X-PUBLISHED-TTL:PT1H
BEGIN:VTIMEZONE
TZID:UTC
BEGIN:STANDARD
TZOFFSETFROM:+0000
TZOFFSETTO:+0000
TZNAME:UTC
DTSTART:20230101T000000
END:STANDARD
END:VTIMEZONE
BEGIN:VEVENT
DTSTART;TZID=UTC:20240524T194500
DTEND;TZID=UTC:20240524T214500
DTSTAMP:20260426T003002
CREATED:20240422T170645Z
LAST-MODIFIED:20240519T020414Z
UID:6385-1716579900-1716587100@joseantoniolopezmoreno.es
SUMMARY:Taller de Psicotarot: Gestión Emocional\, Amor y parejas
DESCRIPTION:Asiste a una experiencia grupal única en la cual la magia del Tarot se encuentra con el método de la psicología cognitiva\, sistémica y experiencial. ¡Máximo ocho personas por grupo! \n¡Nuestra mente está llena de secretos que el Tarot revela\, para entender las aristas de nuestra compleja personalidad con sus arquetipos! \nEl Tarot es un juego en el que los personajes que somos en nuestro mundo… ¡se alían y se pelean en el escenario de la vida! ¿Cómo actúas? ¿A qué aspiras? ¿Hacia dónde vas? ¿Qué te lo impide?\nY… ¿qué arquetipos te representan? \nEn este taller práctico de PsicoTarot\, recomendado tanto para consultores como para usuarios\, aprenderemos a usar Tarot desde esta perspectiva e indagamos en el drama de nuestras experiencias para conocernos mejor\, aprender y crecer.
URL:https://joseantoniolopezmoreno.es/evento/taller-de-psicotarot-amor-y-parejas/
LOCATION:Sala «Los Ángeles»\, El Viso del Alcor
CATEGORIES:Eventos únicos,Taller de Psicotarot
ATTACH;FMTTYPE=image/jpeg:https://joseantoniolopezmoreno.es/wp-content/uploads/2024/04/TALLER-DE-PSICOTAROT-e1729126798581.jpg
ORGANIZER;CN="Jos%C3%A9 Antonio L%C3%B3pez Moreno":MAILTO:hola@joseantoniolopezmoreno.es
END:VEVENT
END:VCALENDAR