BEGIN:VCALENDAR
VERSION:2.0
PRODID:-//Toño López Moreno - ECPv6.15.20//NONSGML v1.0//EN
CALSCALE:GREGORIAN
METHOD:PUBLISH
X-ORIGINAL-URL:https://joseantoniolopezmoreno.es
X-WR-CALDESC:Eventos para Toño López Moreno
REFRESH-INTERVAL;VALUE=DURATION:PT1H
X-Robots-Tag:noindex
X-PUBLISHED-TTL:PT1H
BEGIN:VTIMEZONE
TZID:UTC
BEGIN:STANDARD
TZOFFSETFROM:+0000
TZOFFSETTO:+0000
TZNAME:UTC
DTSTART:20240101T000000
END:STANDARD
END:VTIMEZONE
BEGIN:VEVENT
DTSTART;TZID=UTC:20250516T170000
DTEND;TZID=UTC:20250516T210000
DTSTAMP:20260424T140639
CREATED:20250428T010558Z
LAST-MODIFIED:20250428T010846Z
UID:6653-1747414800-1747429200@joseantoniolopezmoreno.es
SUMMARY:Taller de Psicología Astrológica
DESCRIPTION:Un taller en el que aprenderás a realizar tu carta astral con contenidos del arte tradicional de la astrología cabalística desde la perspectiva de la psicología astrológica. \n\nGrupo reducido\nOnline y presencial\nDiploma de asistencia\n¡Llévate tu carta!\n\nAdemás\, por asistir al taller obtendrás un 50% descuento en el Curso de Astrología Cabalística.
URL:https://joseantoniolopezmoreno.es/evento/taller-de-psicologia-astrologica/
LOCATION:Alcalá de Guadaíra\, Calle Antonio Guerra Ojeda\, Alcala de Guadaira\, Sevilla\, 41500\, Spain
CATEGORIES:Eventos únicos,Taller de Astrología
ATTACH;FMTTYPE=image/jpeg:https://joseantoniolopezmoreno.es/wp-content/uploads/2025/03/Charla-Jose-Antonio-5.jpg
ORGANIZER;CN="Jos%C3%A9 Antonio L%C3%B3pez Moreno":MAILTO:hola@joseantoniolopezmoreno.es
END:VEVENT
END:VCALENDAR