BEGIN:VCALENDAR
VERSION:2.0
PRODID:-//Toño López Moreno - ECPv6.15.20//NONSGML v1.0//EN
CALSCALE:GREGORIAN
METHOD:PUBLISH
X-WR-CALNAME:Toño López Moreno
X-ORIGINAL-URL:https://joseantoniolopezmoreno.es
X-WR-CALDESC:Eventos para Toño López Moreno
REFRESH-INTERVAL;VALUE=DURATION:PT1H
X-Robots-Tag:noindex
X-PUBLISHED-TTL:PT1H
BEGIN:VTIMEZONE
TZID:UTC
BEGIN:STANDARD
TZOFFSETFROM:+0000
TZOFFSETTO:+0000
TZNAME:UTC
DTSTART:20250101T000000
END:STANDARD
END:VTIMEZONE
BEGIN:VEVENT
DTSTART;TZID=UTC:20260507T000000
DTEND;TZID=UTC:20260507T235959
DTSTAMP:20260421T014201
CREATED:20260420T041608Z
LAST-MODIFIED:20260420T041608Z
UID:7733-1778112000-1778198399@joseantoniolopezmoreno.es
SUMMARY:Recarga Plena: sesiones de mayo
DESCRIPTION:Nueva actividad semanal: Recarga Plena Un espacio de bienestar\, crecimiento personal y gestión emocional diseñado para desconectar\, relajarte y avanzar hacia una vida más equilibrada. Cada sesión combina técnicas de inteligencia emocional\, creatividad y acompañamiento grupal para ayudarte a reducir estrés\, ganar claridad y mejorar tu bienestar. \n📍 Presencial – Jueves de 17:45 a 19:15 Centro Quiroga\, Alcalá de Guadaíra \n💻 Online – Viernes de 17:45 a 19:15 Vía telemática \n💶 Tarifa: 30€ por sesión o tarifa plana mensual (2 sesiones a elegir). Puedes combinar presencial y online libremente. \nReserva tu plaza con 24h de antelación. Más información y contacto en mi web.
URL:https://joseantoniolopezmoreno.es/evento/recarga-plena-sesiones-de-mayo/
CATEGORIES:Eventos
END:VEVENT
END:VCALENDAR