BEGIN:VCALENDAR
VERSION:2.0
PRODID:-//Toño López Moreno - ECPv6.15.20//NONSGML v1.0//EN
CALSCALE:GREGORIAN
METHOD:PUBLISH
X-ORIGINAL-URL:https://joseantoniolopezmoreno.es
X-WR-CALDESC:Eventos para Toño López Moreno
REFRESH-INTERVAL;VALUE=DURATION:PT1H
X-Robots-Tag:noindex
X-PUBLISHED-TTL:PT1H
BEGIN:VTIMEZONE
TZID:UTC
BEGIN:STANDARD
TZOFFSETFROM:+0000
TZOFFSETTO:+0000
TZNAME:UTC
DTSTART:20220101T000000
END:STANDARD
END:VTIMEZONE
BEGIN:VEVENT
DTSTART;TZID=UTC:20240308T194500
DTEND;TZID=UTC:20240308T214500
DTSTAMP:20260420T205841
CREATED:20240211T025443Z
LAST-MODIFIED:20240220T034728Z
UID:5848-1709927100-1709934300@joseantoniolopezmoreno.es
SUMMARY:Taller de Psicotarot. Edición Marzo de El Viso del Alcor
DESCRIPTION:Asiste a una experiencia grupal única en la cual la magia del Tarot se encuentra con el método de la psicología cognitiva\, sistémica y experiencial. ¡Máximo ocho personas por grupo! \n¡Nuestra mente está llena de secretos que el Tarot revela\, para entender las aristas de nuestra compleja personalidad con sus arquetipos! \nEl Tarot es un juego en el que los personajes que somos en nuestro mundo… ¡se alían y se pelean en el escenario de la vida! ¿Cómo actúas? ¿A qué aspiras? ¿Hacia dónde vas? ¿Qué te lo impide?\nY… ¿qué arquetipos te representan? \nEn este taller práctico de PsicoTarot\, recomendado tanto para consultores como para usuarios\, aprenderemos a usar Tarot desde esta perspectiva e indagamos en el drama de nuestras experiencias para conocernos mejor\, aprender y crecer.
URL:https://joseantoniolopezmoreno.es/evento/taller-de-psicotarot-edicion-marzo-de-el-viso-del-alcor/
LOCATION:Sala «Los Ángeles»\, El Viso del Alcor
CATEGORIES:Eventos,Taller de Psicotarot
ATTACH;FMTTYPE=image/jpeg:https://joseantoniolopezmoreno.es/wp-content/uploads/2024/02/Taller-de-Psicotarot-Flyers-2-e1707620327835.jpg
END:VEVENT
BEGIN:VEVENT
DTSTART;TZID=UTC:20240223T200000
DTEND;TZID=UTC:20240223T210000
DTSTAMP:20260420T205841
CREATED:20240211T032026Z
LAST-MODIFIED:20240220T034155Z
UID:5866-1708718400-1708722000@joseantoniolopezmoreno.es
SUMMARY:Meditación Especial: 'La Última Luna del Año'
DESCRIPTION:Las meditaciones que imparte Jose Antonio son construidas a partir de diferentes técnicas y disciplinas como la psicología clinica y positiva\, el budismo Vipasana y la meditación cabalística. Esta mezcla personal\, junto con la flexibilidad que se otorga al desarrollo\, hace que cada meditación sea diferente y\, en cierto modo\, única.\nEn ocasiones\, además\, la meditación es temática. Este 1 de diciembre la meditación tiene un acento cabalístico centrado en la teoría de la luna de Piscis-Adar.
URL:https://joseantoniolopezmoreno.es/evento/meditacion-especial-la-ultima-luna-del-ano/
LOCATION:Sala «Los Ángeles»\, El Viso del Alcor
CATEGORIES:Eventos,Meditaciones
ATTACH;FMTTYPE=image/jpeg:https://joseantoniolopezmoreno.es/wp-content/uploads/2024/02/HOY.jpg
END:VEVENT
BEGIN:VEVENT
DTSTART;TZID=UTC:20240126T180000
DTEND;TZID=UTC:20240126T190000
DTSTAMP:20260420T205841
CREATED:20240211T031522Z
LAST-MODIFIED:20240211T031522Z
UID:5861-1706292000-1706295600@joseantoniolopezmoreno.es
SUMMARY:Gestión de Mi Rutina: Esquivando los Bloqueos Mentales en 2024
DESCRIPTION:Una charla que se centrará en cómo gestionar la rutina\, nuestros pensamientos y emociones para esquivar los bloqueos de la mente\, fenómenos que generan y perpetúan desorden y malestar.
URL:https://joseantoniolopezmoreno.es/evento/gestion-de-mi-rutina-esquivando-los-bloqueos-mentales-en-2024/
LOCATION:Al Sultan Tetería\, sevilla
CATEGORIES:Eventos,Eventos únicos
ATTACH;FMTTYPE=image/jpeg:https://joseantoniolopezmoreno.es/wp-content/uploads/2024/02/menteinquietasmall-1-e1708050252286.jpg
END:VEVENT
BEGIN:VEVENT
DTSTART;TZID=UTC:20231215T080000
DTEND;TZID=UTC:20240211T170000
DTSTAMP:20260420T205841
CREATED:20240211T031032Z
LAST-MODIFIED:20240211T031032Z
UID:5859-1702627200-1707670800@joseantoniolopezmoreno.es
SUMMARY:Meditación de Navidad: "la Fiesta de las Luces"
DESCRIPTION:Las meditaciones que imparte Jose Antonio son construidas a partir de diferentes técnicas y disciplinas: desde la psicología clinica y positiva\, el budismo Vipasana y la meditación cabalística. Esta mezcla personal\, junto con la flexibilidad que se otorga al desarrollo\, hace que cada meditación sea diferente y\, en cierto modo\, única.\nEn ocasiones\, además\, la meditación es temática. Este 15 de diciembre la meditación tiene un marcado acento cabalístico centrado en la fuerza de la época de la navidad y el cambio de año.
URL:https://joseantoniolopezmoreno.es/evento/meditacion-de-navidad-la-fiesta-de-las-luces/
CATEGORIES:Eventos,Meditaciones
ATTACH;FMTTYPE=image/jpeg:https://joseantoniolopezmoreno.es/wp-content/uploads/2024/02/HOY.jpg
END:VEVENT
BEGIN:VEVENT
DTSTART;TZID=UTC:20231209T180000
DTEND;TZID=UTC:20240211T170000
DTSTAMP:20260420T205841
CREATED:20240211T030930Z
LAST-MODIFIED:20240211T030930Z
UID:5855-1702144800-1707670800@joseantoniolopezmoreno.es
SUMMARY:Ronda abierta de charla-coloquio sobre Cábala\, Tarot\, Alquimia y Astrología
DESCRIPTION:Asistencia gratuita. Un espacio ameno y cálido en una acogedora cafetería\, la Cara o Cruz de Alcalá de Guadaíra\, en el que habrá una amistosa ronda abierta de preguntas relacionadas con el esoterismo\, el bienestar\, el desarrollo personal\, la psicología y la filosofía esotérica\, entre otros. Se responderán las cuestiones que se expongan por parte de los asistentes.
URL:https://joseantoniolopezmoreno.es/evento/ronda-abierta-de-charla-coloquio-sobre-cabala-tarot-alquimia-y-astrologia/
LOCATION:Cara o Cruz Cafetería\, Calle Bailén
END:VEVENT
BEGIN:VEVENT
DTSTART;TZID=UTC:20231201T193000
DTEND;TZID=UTC:20240211T170000
DTSTAMP:20260420T205841
CREATED:20240211T030730Z
LAST-MODIFIED:20240211T030759Z
UID:5852-1701459000-1707670800@joseantoniolopezmoreno.es
SUMMARY:Meditación Budista de Invierno: 'la Respiración de la Montaña'
DESCRIPTION:Las meditaciones que imparte Jose Antonio son construidas a partir de diferentes técnicas y disciplinas: desde la psicología clinica y positiva\, el budismo Vipasana y la meditación cabalística. Esta mezcla personal\, junto con la flexibilidad que se otorga al desarrollo\, hace que cada meditación sea diferente y\, en cierto modo\, única.\nEn ocasiones\, además\, la meditación es temática. Este 1 de diciembre la meditación tiene un marcado acento budista-vipasana centrado en la fuerza de la época invernal.
URL:https://joseantoniolopezmoreno.es/evento/meditacion-budista-de-invierno-la-respiracion-de-la-montana/
LOCATION:Sala «Los Ángeles»\, El Viso del Alcor
CATEGORIES:Eventos,Meditaciones
ATTACH;FMTTYPE=image/jpeg:https://joseantoniolopezmoreno.es/wp-content/uploads/2024/02/HOY.jpg
END:VEVENT
END:VCALENDAR