BEGIN:VCALENDAR
VERSION:2.0
PRODID:-//Toño López Moreno - ECPv6.15.20//NONSGML v1.0//EN
CALSCALE:GREGORIAN
METHOD:PUBLISH
X-WR-CALNAME:Toño López Moreno
X-ORIGINAL-URL:https://joseantoniolopezmoreno.es
X-WR-CALDESC:Eventos para Toño López Moreno
REFRESH-INTERVAL;VALUE=DURATION:PT1H
X-Robots-Tag:noindex
X-PUBLISHED-TTL:PT1H
BEGIN:VTIMEZONE
TZID:UTC
BEGIN:STANDARD
TZOFFSETFROM:+0000
TZOFFSETTO:+0000
TZNAME:UTC
DTSTART:20240101T000000
END:STANDARD
END:VTIMEZONE
BEGIN:VEVENT
DTSTART;TZID=UTC:20250504T200000
DTEND;TZID=UTC:20250504T210000
DTSTAMP:20260424T161623
CREATED:20250428T010234Z
LAST-MODIFIED:20250428T010910Z
UID:6651-1746388800-1746392400@joseantoniolopezmoreno.es
SUMMARY:Meditación Luna de Tauro: Plantación de Prosperidad
DESCRIPTION:En esta meditación emplearemos la concentración dinámica\, la observación consciente y la visualización creativa para tratar nuestra relación con la prosperidad\, el crecimiento emocional y el bienestar en los ámbitos de la vida cotidiana. Plantar semillas para la prosperidad es una tarea que se hace en la luna de Tauro\, según la tradición de la cábala. \nLas meditaciones que imparte José Antonio son construidas a partir de diferentes técnicas y disciplinas como la psicología positiva\, el budismo Vipasana y la meditación cabalística. Esta mezcla personal\, junto con la flexibilidad que se otorga al desarrollo\, hace que cada meditación sea diferente y\, en cierto modo\, única. \nElementos de la meditación: \n\nRelajación progresiva.\nJuegos de distensión.\nVisualización creativa.\nConcentración dinámica.\nConciencia corporal.\n\n 
URL:https://joseantoniolopezmoreno.es/evento/meditacion-luna-de-tauro-plantacion-de-prosperidad/
LOCATION:Alcalá de Guadaíra\, Calle Antonio Guerra Ojeda\, Alcala de Guadaira\, Sevilla\, 41500\, Spain
CATEGORIES:Eventos únicos,Meditaciones
ATTACH;FMTTYPE=image/jpeg:https://joseantoniolopezmoreno.es/wp-content/uploads/2025/03/Charla-Jose-Antonio-7.jpg
ORGANIZER;CN="Jos%C3%A9 Antonio L%C3%B3pez Moreno":MAILTO:hola@joseantoniolopezmoreno.es
END:VEVENT
BEGIN:VEVENT
DTSTART;TZID=UTC:20250511T193000
DTEND;TZID=UTC:20250511T203000
DTSTAMP:20260424T161623
CREATED:20250115T161205Z
LAST-MODIFIED:20250505T201355Z
UID:6535-1746991800-1746995400@joseantoniolopezmoreno.es
SUMMARY:Charla de Toño: ¿Cómo podemos sentirnos bien?
DESCRIPTION:Este viernes Toño dará una charla en su espacio. En esta ocasión reflexionará sobre el malestar y el bienestar\, y sobre cómo podemos con sencillez mejorar nuestra calidad de vida para sentirnos mejor y más fuertes en el día a día.
URL:https://joseantoniolopezmoreno.es/evento/charla-de-tono-como-podemos-sentirnos-bien/
LOCATION:Alcalá de Guadaíra\, Calle Antonio Guerra Ojeda\, Alcala de Guadaira\, Sevilla\, 41500\, Spain
CATEGORIES:Charla íntima,Eventos únicos
ATTACH;FMTTYPE=image/jpeg:https://joseantoniolopezmoreno.es/wp-content/uploads/2024/09/ALM-Clase2.jpg
END:VEVENT
BEGIN:VEVENT
DTSTART;TZID=UTC:20250516T170000
DTEND;TZID=UTC:20250516T210000
DTSTAMP:20260424T161623
CREATED:20250428T010558Z
LAST-MODIFIED:20250428T010846Z
UID:6653-1747414800-1747429200@joseantoniolopezmoreno.es
SUMMARY:Taller de Psicología Astrológica
DESCRIPTION:Un taller en el que aprenderás a realizar tu carta astral con contenidos del arte tradicional de la astrología cabalística desde la perspectiva de la psicología astrológica. \n\nGrupo reducido\nOnline y presencial\nDiploma de asistencia\n¡Llévate tu carta!\n\nAdemás\, por asistir al taller obtendrás un 50% descuento en el Curso de Astrología Cabalística.
URL:https://joseantoniolopezmoreno.es/evento/taller-de-psicologia-astrologica/
LOCATION:Alcalá de Guadaíra\, Calle Antonio Guerra Ojeda\, Alcala de Guadaira\, Sevilla\, 41500\, Spain
CATEGORIES:Eventos únicos,Taller de Astrología
ATTACH;FMTTYPE=image/jpeg:https://joseantoniolopezmoreno.es/wp-content/uploads/2025/03/Charla-Jose-Antonio-5.jpg
ORGANIZER;CN="Jos%C3%A9 Antonio L%C3%B3pez Moreno":MAILTO:hola@joseantoniolopezmoreno.es
END:VEVENT
BEGIN:VEVENT
DTSTART;TZID=UTC:20250530T193000
DTEND;TZID=UTC:20250530T210000
DTSTAMP:20260424T161623
CREATED:20241017T010313Z
LAST-MODIFIED:20250505T200628Z
UID:6477-1748633400-1748638800@joseantoniolopezmoreno.es
SUMMARY:Taller de Psicotarot: Especial el Manejo de las Emociones
DESCRIPTION:Asiste a una experiencia grupal única en la cual la magia del Tarot se encuentra con el método de la psicología cognitiva\, sistémica y experiencial\, en la que trabajamos y confrontamos nuestros propios desafíos. ¡Máximo ocho personas por grupo! \n¡Nuestra mente está llena de secretos que el Tarot revela\, para entender las aristas de nuestra compleja personalidad con sus arquetipos! \nEl Tarot es un juego en el que los personajes que somos en nuestro mundo… ¡se alían y se pelean en el escenario de la vida! ¿Cómo actúas? ¿A qué aspiras? ¿Hacia dónde vas? ¿Qué te lo impide?\nY… ¿qué arquetipos te representan? \nEn este taller práctico de PsicoTarot\, recomendado para todo tipo de usuarios\, aprenderemos a usar Tarot desde esta perspectiva e indagamos en el drama de nuestras experiencias para conocernos mejor\, aprender y crecer. \n  \nSe entrega diploma de asistencia con la combinación de Tarot.
URL:https://joseantoniolopezmoreno.es/evento/taller-de-psicotarot-especial-el-manejo-de-las-emociones/
LOCATION:Alcalá de Guadaíra\, Calle Antonio Guerra Ojeda\, Alcala de Guadaira\, Sevilla\, 41500\, Spain
CATEGORIES:Eventos únicos,Taller de Psicotarot
ATTACH;FMTTYPE=image/jpeg:https://joseantoniolopezmoreno.es/wp-content/uploads/2024/10/Taller-de-Psicotarot-1-e1729129066182.jpg
END:VEVENT
END:VCALENDAR