BEGIN:VCALENDAR
VERSION:2.0
PRODID:-//Toño López Moreno - ECPv6.15.20//NONSGML v1.0//EN
CALSCALE:GREGORIAN
METHOD:PUBLISH
X-WR-CALNAME:Toño López Moreno
X-ORIGINAL-URL:https://joseantoniolopezmoreno.es
X-WR-CALDESC:Eventos para Toño López Moreno
REFRESH-INTERVAL;VALUE=DURATION:PT1H
X-Robots-Tag:noindex
X-PUBLISHED-TTL:PT1H
BEGIN:VTIMEZONE
TZID:UTC
BEGIN:STANDARD
TZOFFSETFROM:+0000
TZOFFSETTO:+0000
TZNAME:UTC
DTSTART:20240101T000000
END:STANDARD
END:VTIMEZONE
BEGIN:VEVENT
DTSTART;TZID=UTC:20250926T080000
DTEND;TZID=UTC:20250926T170000
DTSTAMP:20260421T062933
CREATED:20250916T115609Z
LAST-MODIFIED:20250916T115724Z
UID:7037-1758873600-1758906000@joseantoniolopezmoreno.es
SUMMARY:Meditación especial: Volando con el Espíritu
DESCRIPTION:Te invito a una sesión única de meditación donde soltaremos el ruido y nos reencontraremos con nuestro centro.\nLas meditaciones que imparte Jose Antonio son construidas a partir de diferentes técnicas y disciplinas como la psicología clinica y positiva\, el budismo Vipasana y la meditación cabalística. Esta mezcla personal\, junto con la flexibilidad que se otorga al desarrollo\, hace que cada meditación sea diferente y\, en cierto modo\, única. \nUna experiencia para:Respirar profundamenteLiberar tensionesSentir la ligereza del serSintonizar con la fuerza del verano \nUsando técnicas de: \nVisualización creativa\nRelajación progresiva\nObservación corporal\nConcentración dinámica \n🗓 viernes 26 de septiembre 📍 Presencial en Alcalá de Guadaíra. También online.🕕 20:00🎟 Aportación: 12€ \nNo necesitas experiencia previa. Solo ganas de escucharte\, de sentir y de ser.Plazas limitadas. Reserva tu espacio. \n\n \n 
URL:https://joseantoniolopezmoreno.es/evento/meditacion-especial-volando-con-el-espiritu/
LOCATION:Alcalá de Guadaíra\, Calle Antonio Guerra Ojeda\, Alcala de Guadaira\, Sevilla\, 41500\, Spain
CATEGORIES:Eventos,Meditaciones
ATTACH;FMTTYPE=image/jpeg:https://joseantoniolopezmoreno.es/wp-content/uploads/2025/03/Charla-Jose-Antonio-7.jpg
END:VEVENT
END:VCALENDAR