BEGIN:VCALENDAR
VERSION:2.0
PRODID:-//Toño López Moreno - ECPv6.15.20//NONSGML v1.0//EN
CALSCALE:GREGORIAN
METHOD:PUBLISH
X-ORIGINAL-URL:https://joseantoniolopezmoreno.es
X-WR-CALDESC:Eventos para Toño López Moreno
REFRESH-INTERVAL;VALUE=DURATION:PT1H
X-Robots-Tag:noindex
X-PUBLISHED-TTL:PT1H
BEGIN:VTIMEZONE
TZID:UTC
BEGIN:STANDARD
TZOFFSETFROM:+0000
TZOFFSETTO:+0000
TZNAME:UTC
DTSTART:20240101T000000
END:STANDARD
END:VTIMEZONE
BEGIN:VEVENT
DTSTART;TZID=UTC:20251004T050000
DTEND;TZID=UTC:20251004T200000
DTSTAMP:20260421T044940
CREATED:20250912T111132Z
LAST-MODIFIED:20250912T111132Z
UID:7016-1759554000-1759608000@joseantoniolopezmoreno.es
SUMMARY:Los Enigmas del Principito: Construye tu Viaje Espiritual. Málaga
DESCRIPTION:¡Construye tu propio Viaje Espiritual a través de todos los enigmas y aplica de forma creativa y lúdica numerosas herramientas de desarrollo y crecimiento personal! Este taller es un fascinante viaje por el mágico mundo creado por Antoine de Saint-Exupéry en el que se analizan y desvelan los misterios más reseñables de la obra para aplicar su sabiduría en nuestro viaje de vida y llenarla de magia y entusiasmo. Además\, puedes llevarte el manual ‘Los Enigmas del Principito’ directamente en nuestro taller\, para que no te pierdas nada. \n¿Qué aprenderás?\n\nHerramientas de desarrollo y crecimiento personal útiles\, aplicación de técnicas para el bienestar y tácticas y estrategias para mejorar tu calidad de vida.Ss
URL:https://joseantoniolopezmoreno.es/evento/los-enigmas-del-principito-construye-tu-viaje-espiritual-malaga/
LOCATION:Centro Málaga\, Calle plaza de toros vieja 3A\, p. 5\, Málaga\, Málaga\, Spain
CATEGORIES:Eventos únicos
ATTACH;FMTTYPE=image/jpeg:https://joseantoniolopezmoreno.es/wp-content/uploads/2025/09/Poster-Principito-malaga.jpg
ORGANIZER;CN="Jos%C3%A9 Antonio L%C3%B3pez Moreno":MAILTO:hola@joseantoniolopezmoreno.es
END:VEVENT
BEGIN:VEVENT
DTSTART;TZID=UTC:20251015T180000
DTEND;TZID=UTC:20251015T200000
DTSTAMP:20260421T044940
CREATED:20250912T222111Z
LAST-MODIFIED:20250915T192312Z
UID:7020-1760551200-1760558400@joseantoniolopezmoreno.es
SUMMARY:Curso Completo de Tarot: Teoría y Práctica con Monográficos\, todos los niveles.
DESCRIPTION:Disponible también Online en directo\nDe Octubre a Mayo🗓️ Fechas: Segundo y cuarto miércoles del mes cada quince días (excepto diciembre\, segundo y tercero). 🕖 Horario: de 19:00 a 21:00Precio: 40€/mes👤 Impartido por: José Antonio López Moreno \n(En breve podrás consultar el calendario con todos los días de clase del curso) \n \n¿Qué aprenderás?Este curso está diseñado para que entiendas el Tarot desde lo elemental a su base más profunda: los números y los símbolos. Una experiencia clara\, estructurada y 100% práctica\, para que puedas utilizar el Tarot como una herramienta efectiva de interpretación\, orientación y crecimiento personal. \nEn este completo curso también se estudian a través de veintisiete monográficos principales todos los arcanos\, uno por uno\, así como las familias o palos que forman el cuerpo del Tarot. \nUna visión particularmente útil para realizar consultas con Tarot. \n  \nEntrega de diploma y garantía de aprendizaje\nAl ﬁnalizar el curso se entregará una certiﬁcación que acredite tal hecho. Si se han realizado con éxito las pruebas\, se acreditará la calidad de experto en Tarot y consultoría con Tarot. \nTutorías con el tutor y contacto directo ininterrumpido\nLos alumnos en activo podrán asistir a una tutoría libre bimensual para trabajar el contenido. Así mismo\, los alumnos tienen acceso directo con el tutor a través del chat privado del campus. \n¿Cuál es la disposición temporal del temario?\nUna vez que el contenido está disponible\, no hay restricción temporal para emplearlo mientras estén vigentes tanto el curso como la suscripción al mismo. Hay un tema nuevo cada dos semanas. El tema se pone a disposición de forma completa: sus textos\, vídeos y/o audios\, autoevaluaciones y ejercicios\, etc. A continuación detallamos el calendario del curso. \n\n\n🎓 Con acceso a nuestro Campus Virtual\, recibirás materiales\, ejercicios y recursos para continuar explorando entre sesiones. \n\n\nUna vez adquirido tendrás acceso para siempre al contenido si se ha realizado la compra del curso virtual\, y temporal si se tiene acceso por mensualidad. Actualizaciones constantes. \n\nContenido del Curso:\nSección Teoría y Práctica:\n«Curso Teórico-Práctico de Tarot» es una sección completa del Grado de Tarot y Tarología con videoclases y audioclases que aborda cuestiones básicas de Tarot y las analiza desde una perspectiva práctica: qué es el Tarot\, cómo se aborda lo predictivo\, cuáles son los elementos que forman las cartas\, cómo se desarrolla la lectura\, cómo se leen los números\, cómo realizar consultas\, por qué el Tarot tiene colores\, cómo se relacionan las cartas… realizado y presentado por José Antonio López Moreno. Los temas son los siguientes: \n\n\n🔹 Bloque 1: La Arquitectura Tarótica \n\n\n\n¿Qué es realmente el Tarot? ¿Predice? ¿Cómo?\nIntroducción a su estructura y la importancia de los números. ¿Qué dicen los números?\n\n🔹 Bloque 2: Los Números \n\nEl Jardín Tarótico: cómo los números hablan. ¿Cómo se estructuran los números?\nNúmeros y símbolos como mapas de experiencia. ¿Cómo se leen las experiencias?\n\n🔹 Bloque 3: Ámbitos Vitales \n\nEl poder simbólico del triángulo numérico. ¿Cómo hacer una lectura exitosa?\nIdeogramas y retículos en la lectura vital. ¿Cómo leer los ámbitos de la vida?\n\n🔹 Bloque 4: Los Símbolos \n\nLa tirada como mapa simbólico-numérico. ¿Cómo diferenciar los procesos de los resultados?\nCómo leer los ejes simbólicos en una consulta. ¿Cómo interconectar los arcanos?\n\n🔹 Bloque 5: La Personalidad \n\nLos 6 atributos del Sol en el Tarot. ¿Cuáles son los atributos de la satisfacción?\nLas personalidades taróticas: claves de identidad. ¿Cómo realizar respuestas a una carta?\n\n  \nMonográficos y temas (en cinco módulos) contenidos en el curso:\n\nMonográfico de El Mago.\nMonográfico de la Fuerza.\nMonográfico de La Papisa\nMonográfico de El Colgado .\nMonográfico de La Emperatriz.\nMonográfico de la Muerte\nMonográfico de La Rueda.\nMonográfico de El Emperador\nMonográfico de La Templanza.\nMonográfico de el Papa.\nMonográfico de El Diablo.\nMonográfico de Los Enamorados.\nMonográfico de el Loco.\nMonográfico de La Torre.\nMonográfico de El Carro.\nMonográfico de el Palo de Bastos.\nMonográfico de Copas.\nEvolución de Arcanos Menores.\nMonográfico de el Palo de Espadas\nMonográfico de Oros.\nMonográfico de la Estrella.\nMonográfico de la Justicia.\nMonográfico de Luna.\nMonográfico de El Ermitaño.\nMonográfico de El Sol.\nMonográfico de El Juicio.\nMonográfico de El Mundo.\nMonográfico\, Arcanos y la familia ancestral del Tarot.\n\n\n\n\n¿Qué esconde la Papisa? ¿Por qué «El Mundo» viene tras «El Juicio«? ¿Por qué levanta el Mago su varita?\nEn este completo curso\, a través de veintisiete temas principales\, se analizan todos los arcanos\, uno por uno\, así como las familias o palos que forman el cuerpo del Tarot. \nUna visión particularmente útil para realizar consultas con Tarot. \n  \nDepartamentos\nToda la materia se halla contenida en cinco departamentos generales\, que son los siguientes: \nHistoria del Tarot \nEste departamento se centra en el contenido relativo a los principales tarotistas de la historia\, a los textos fundacionales\, las fuentes documentales\, los estudios y revisiones formalizados a lo largo del tiempo así como al entendimiento del contexto histórico de la formación y expansión del Tarot. \nTeoría de los fundamentos del Tarot \nEste departamento se centra en el contenido relativo a los fundamentos relevantes del Tarot\, desde sus ensenanzas espirituales a disciplinas relacionadas como la numerología o la geometría. \nConsultoría personal con Tarot\nEste departamento se centra en el contenido relativo al aprendizaje en el trato con el consultante y a emitir una relación asertiva que permita el feedback productivo. \nTeoría y método de la lectura tarótica \nEste departamento se centra en el contenido relativo al estudio de la formación de la creación y de los sistemas de vida. \nMeditación y acción tarótica \nEste departamento se centra en el contenido relativo al empleo de los fundamentos cabalísticos para aumentar nuestra calidad de vida. Es dependiente de la materia contenida en el resto de departamentos. \nAltamente recomendables para quienes deseen adquirir competencias relacionadas con la consultoría personal y quienes deseen aprender todo lo competente a la herramienta del Tarot. El estudiante no sólo aprenderá todo lo que ha de saberse del Tarot como herramienta\, también sabrá cómo aplicarlo para el beneficio del consultante en consultoría. Este grado capacita al estudiante para ser consultor íntegro de desarrollo personal usando la herramienta del Tarot. \n\nIdeal para quienes desean:✅ Entender el Tarot más allá de las cartas✅ Leer con claridad y sentido práctico✅ Aplicar el Tarot en sesiones\, procesos personales o terapias \n✨ No necesitas experiencia previa. Solo curiosidad\, apertura y ganas de descubrir. \n📲 Reserva tu plaza ahoraLas plazas son limitadas y la experiencia… transformadora.
URL:https://joseantoniolopezmoreno.es/evento/curso-de-tarot-teoria-y-practica-todos-los-niveles/
LOCATION:Alcalá de Guadaíra\, Calle Antonio Guerra Ojeda\, Alcala de Guadaira\, Sevilla\, 41500\, Spain
ATTACH;FMTTYPE=image/jpeg:https://joseantoniolopezmoreno.es/wp-content/uploads/2025/03/Charla-Jose-Antonio-10-e1750804766714.jpg
ORGANIZER;CN="Jos%C3%A9 Antonio L%C3%B3pez Moreno":MAILTO:hola@joseantoniolopezmoreno.es
END:VEVENT
BEGIN:VEVENT
DTSTART;TZID=UTC:20251017T180000
DTEND;TZID=UTC:20251017T200000
DTSTAMP:20260421T044940
CREATED:20250912T224431Z
LAST-MODIFIED:20250915T192507Z
UID:7023-1760724000-1760731200@joseantoniolopezmoreno.es
SUMMARY:Curso completo de Cábala y Tecnología Espiritual: el Movimiento del Espíritu. Todos los niveles
DESCRIPTION:Disponible también Online en directo\nDe Octubre a Mayo🗓️ Fechas: Segundo y cuarto viernes del mes cada quince días (excepto diciembre\, segundo y tercero). 🕖 Horario: de 18:00 a 20:00Precio: 40€/mes👤 Impartido por: José Antonio López Moreno \n(En breve podrás consultar el calendario con todos los días de clase del curso) \n\nCurso Completo de Cábala: El Movimiento del Espíritu\nDescubre el poder transformador de la sabiduría ancestral aplicada a la vida moderna \n¿Sientes que hay algo más allá de lo que percibes? ¿Buscas herramientas prácticas para comprender tu propósito y vivir con mayor plenitud? \nEste curso es para ti. \nLa Cábala es una disciplina esotérica que investiga la realidad metafísica del ser humano y de las cosas existentes. Tiene una fuerte base filosófica y técnica\, y se desarrolla desde la antigüedad en el contexto del judaísmo ortodoxo y en diversos núcleos culturales del próximo oriente y de la Europa judía. Se distingue drásticamente del judaísmo por rechazar la religión como fuente de conocimientos y de aprendizaje . \n La cabalología\, el enfoque particular de José Antonio López Moreno\, es la disciplina que da contenido\, estructura y sitúa el conocimiento de la Cábala para procesarlo desde la perspectiva de la ciencia actual y vehicularlo a métodos y técnicas contemporáneos. La cabalología se distingue particularmente de la Cábala en el hecho de que es crítica con las enseñanzas filosóficas y las evalúa desde un enfoque funcional y práctico\, permitiendo así su uso\, como filosofía\, desde otras disciplinas. \nEste curso es altamente recomendables para quienes deseen adquirir competencias relacionadas con la consultoría personal y quienes deseen aprender todo lo competente a la herramienta de la Cábala. El estudiante no sólo aprenderá todo lo que ha de saberse de la Cábala como herramienta\, también sabrá cómo aplicarlo para el beneficio del consultante en consultoría. \nLo que te espera:\nUn recorrido fascinante y profundo por los principios esenciales de la Cábala\, dividido en 5 grandes bloques de estudio que combinan teoría clara con ejercicios útiles y contenido práctico\, para que puedas integrar la sabiduría cabalística en tu día a día. \nIncluye acceso exclusivo a nuestro Campus VirtualPresencial y Online en vivo – ¡elige cómo participar! \nEntrega de diploma y garantía de aprendizaje\nAl ﬁnalizar el curso se entregará una certiﬁcación que acredite tal hecho. Si se han realizado con éxito las pruebas\, se acreditará la calidad de experto en Cábala y consultoría con Cábala. \nTutorías con el tutor y contacto directo ininterrumpido\nLos alumnos en activo podrán asistir a una tutoría libre bimensual para trabajar el contenido. Así mismo\, los alumnos tienen acceso directo con el tutor a través del chat privado del campus. \n¿Cuál es la disposición temporal del temario?\nUna vez que el contenido está disponible\, no hay restricción temporal para emplearlo mientras estén vigentes tanto el curso como la suscripción al mismo. Hay un tema nuevo cada dos semanas. El tema se pone a disposición de forma completa: sus textos\, vídeos y/o audios\, autoevaluaciones y ejercicios\, etc. A continuación detallamos el calendario del curso. \n\n\n🎓 Con acceso a nuestro Campus Virtual\, recibirás materiales\, ejercicios y recursos para continuar explorando entre sesiones. \n\n\nUna vez adquirido tendrás acceso para siempre al contenido si se ha realizado la compra del curso virtual\, y temporal si se tiene acceso por mensualidad. Actualizaciones constantes. \nAsignaturas generales contenidas en el curso\nToda la materia se halla contenida en cinco departamentos generales\, que son los siguientes: \n\nHistoria de la Cábala Este departamento se centra en el contenido relativo a los principales cabalistas de la historia\, a los textos fundacionales\, las fuentes documentales\, los estudios y revisiones formalizados a lo largo del tiempo así como al entendimiento del contexto histórico de la formación y expansión de la Cábala.\nTeoría de los fundamentos de la Cábala Este departamento se centra en el contenido relativo a los fundamentos relevantes de la Cábala\, desde sus enseñanzas espirituales a disciplinas relacionadas como la numerología o la geometría.\nConsultoría personal con Cábala Este departamento se centra en el contenido relativo al aprendizaje en el trato con el consultante y a emitir una relación asertiva que permita el feedback productivo.\nTeoría y método de la lectura cabalística Este departamento se centra en el contenido relativo al estudio de la formación de la creación y de los sistemas de vida.\nMeditación y acción cabalisticas Este departamento se centra en el contenido relativo al empleo de los fundamentos cabalísticos para aumentar nuestra calidad de vida. Es dependiente de la materia contenida en el resto de departamentos.\nAstrología y Alquimia Este departamento estudia las dinámicas zodiacales\, planetarias e interplanetarias según la sabiduría de la Kabbalah\, y la interconexión con las fuerzas de vida vegetales\, minerales\, animales y humanas. .\n\nMonográficos y temas contenidos en el curso\n\nTema 01. Qué es la Kabbalah\nTema 02. El Masaj\nMonográfico I\, Historia y Tradición. Conceptos clave\nTema 03. Ratzón\nTema 04. Ain Sof Aur\nTema 05\, El Alef-Bet\nTema 06. Los Olamot\nTema 07\, el Merkavá\nTema 08. Emuná\nTema 09. Los Malakhim\nTema 10. Satán\nTema 11. Gilgulim\nMonográfico II\, Escuelas Cabalísticas en la Historia\nTema 12. Parashiot\nMonográfico III\, Textos fundacionales y Obras\n\n  \n\nPrograma por bloques del Curso:\n🔹 Bloque 1: Las Reglas Espirituales \n\n¿Qué es realmente la Cábala?\nMasaj: El juego de la vida\n\n🔹 Bloque 2: El Proceso Creativo \n\nRatzón: El Deseo como motor del alma\nAin Sof Aur: Cómo se crea la realidad\n\n🔹 Bloque 3: Las Esferas y los Árboles \n\nAlef-Bet: El ADN espiritual\nOlamot: Mundos y dimensiones ocultas\n\n🔹 Bloque 4: Anatomía del Alma \n\nMerkavá: Tecnología espiritual aplicada\nEmuná: La luz del alma y la fe consciente\n\n🔹 Bloque 5: Inteligencias \n\nMalakhim: Inteligencias universales\nSatán: El oponente como maestro\n\n  \nAdemás\, incluye poderosos monográficos. \n\nFacilitado por José Antonio López Moreno\, instructor y consultor\, experto en desarrollo personal creativo. Este curso está diseñado para todo público\, sin necesidad de conocimientos previos.
URL:https://joseantoniolopezmoreno.es/evento/curso-de-cabala-teoria-y-practica-todos-los-niveles/
LOCATION:Alcalá de Guadaíra\, Calle Antonio Guerra Ojeda\, Alcala de Guadaira\, Sevilla\, 41500\, Spain
ATTACH;FMTTYPE=image/jpeg:https://joseantoniolopezmoreno.es/wp-content/uploads/2025/03/Charla-Jose-Antonio-11-e1750804809412.jpg
END:VEVENT
BEGIN:VEVENT
DTSTART;TZID=UTC:20251017T200000
DTEND;TZID=UTC:20251017T213000
DTSTAMP:20260421T044940
CREATED:20251002T031825Z
LAST-MODIFIED:20251002T031825Z
UID:7048-1760731200-1760736600@joseantoniolopezmoreno.es
SUMMARY:Meditación Especial
DESCRIPTION:
URL:https://joseantoniolopezmoreno.es/evento/meditacion-especial-2/
CATEGORIES:Meditaciones
END:VEVENT
BEGIN:VEVENT
DTSTART;TZID=UTC:20251019T110000
DTEND;TZID=UTC:20251019T133000
DTSTAMP:20260421T044940
CREATED:20250912T105032Z
LAST-MODIFIED:20250912T105835Z
UID:7012-1760871600-1760880600@joseantoniolopezmoreno.es
SUMMARY:Los Enigmas del Principito: Construye tu Viaje Espiritual. Alcalá de Guadaíra\, Sevilla
DESCRIPTION:¡Construye tu propio Viaje Espiritual a través de todos los enigmas y aplica de forma creativa y lúdica numerosas herramientas de desarrollo y crecimiento personal! Este taller es un fascinante viaje por el mágico mundo creado por Antoine de Saint-Exupéry en el que se analizan y desvelan los misterios más reseñables de la obra para aplicar su sabiduría en nuestro viaje de vida y llenarla de magia y entusiasmo. Además\, puedes llevarte el manual ‘Los Enigmas del Principito’ directamente en nuestro taller\, para que no te pierdas nada. \n¿Qué aprenderás?\n\nHerramientas de desarrollo y crecimiento personal útiles\, aplicación de técnicas para el bienestar y tácticas y estrategias para mejorar tu calidad de vida.
URL:https://joseantoniolopezmoreno.es/evento/los-enigmas-del-principito-construye-tu-viaje-espiritual-alcala-de-guadaira-sevilla/
LOCATION:MiZentro\, Calle Bailén\, 2\, Alcalá de Guadaíra\, Sevilla\, 41500\, Spain
CATEGORIES:Eventos únicos
ATTACH;FMTTYPE=image/jpeg:https://joseantoniolopezmoreno.es/wp-content/uploads/2025/09/Principito-Alcala-de-Guadaira-jpgsmall.jpg
ORGANIZER;CN="Jos%C3%A9 Antonio L%C3%B3pez Moreno":MAILTO:hola@joseantoniolopezmoreno.es
END:VEVENT
END:VCALENDAR